BEGIN:VCALENDAR
VERSION:2.0
PRODID:-//NUS Faculty of Science - ECPv6.15.13//NONSGML v1.0//EN
CALSCALE:GREGORIAN
METHOD:PUBLISH
X-ORIGINAL-URL:https://www.science.nus.edu.sg
X-WR-CALDESC:Events for NUS Faculty of Science
REFRESH-INTERVAL;VALUE=DURATION:PT1H
X-Robots-Tag:noindex
X-PUBLISHED-TTL:PT1H
BEGIN:VTIMEZONE
TZID:Asia/Singapore
BEGIN:STANDARD
TZOFFSETFROM:+0800
TZOFFSETTO:+0800
TZNAME:+08
DTSTART:20190101T000000
END:STANDARD
END:VTIMEZONE
BEGIN:VEVENT
DTSTART;TZID=Asia/Singapore:20240827T120000
DTEND;TZID=Asia/Singapore:20240827T133000
DTSTAMP:20260423T162804
CREATED:20240701T053017Z
LAST-MODIFIED:20240806T061943Z
UID:67001-1724760000-1724765400@www.science.nus.edu.sg
SUMMARY:Industrial Seminar Series feat. Sanofi
DESCRIPTION:We welcome Sanofi\, a world-leading multi-national in the biopharmaceutical sector\, to Science in a seminar that will showcase their next-gen production facility called “Evolutive Facility”. Featuring their Site Quality Head\, Lay Mui Toh\, who is herself an NUS Science alumnus. This will surely be an informative session for students reading life and physical sciences majors. Register here.
URL:https://www.science.nus.edu.sg/event/industrial-seminar-series-sanofi/
LOCATION:S17 #04-06
CATEGORIES:Employability
ATTACH;FMTTYPE=image/png:https://www.science.nus.edu.sg/wp-content/uploads/2024/07/POSTER-sanofi-NUS-Science-final.png
END:VEVENT
BEGIN:VEVENT
DTSTART;TZID=Asia/Singapore:20200303T080000
DTEND;TZID=Asia/Singapore:20200303T180000
DTSTAMP:20260423T162805
CREATED:20200228T051408Z
LAST-MODIFIED:20200303T103635Z
UID:8037-1583222400-1583258400@www.science.nus.edu.sg
SUMMARY:E-Open House 2020
DESCRIPTION:Faculty of Science very first e-Open House is coming soon!
URL:https://www.science.nus.edu.sg/event/event-1/
LOCATION:S17 #04-06
ATTACH;FMTTYPE=image/png:https://www.science.nus.edu.sg/wp-content/uploads/2020/02/Scroller-eOH2020.png
END:VEVENT
END:VCALENDAR