BEGIN:VCALENDAR
VERSION:2.0
PRODID:-//NUS Faculty of Science - ECPv6.15.13//NONSGML v1.0//EN
CALSCALE:GREGORIAN
METHOD:PUBLISH
X-ORIGINAL-URL:https://www.science.nus.edu.sg
X-WR-CALDESC:Events for NUS Faculty of Science
REFRESH-INTERVAL;VALUE=DURATION:PT1H
X-Robots-Tag:noindex
X-PUBLISHED-TTL:PT1H
BEGIN:VTIMEZONE
TZID:Asia/Singapore
BEGIN:STANDARD
TZOFFSETFROM:+0800
TZOFFSETTO:+0800
TZNAME:+08
DTSTART:20220101T000000
END:STANDARD
END:VTIMEZONE
BEGIN:VEVENT
DTSTART;TZID=Asia/Singapore:20240126T120000
DTEND;TZID=Asia/Singapore:20240126T133000
DTSTAMP:20260422T225150
CREATED:20240112T003823Z
LAST-MODIFIED:20240122T010243Z
UID:59558-1706270400-1706275800@www.science.nus.edu.sg
SUMMARY:Industrial Seminar Series: HTX
DESCRIPTION:We invite HTX\, the Home Team’s R&D powerhouse to the Science campus and welcome back two NUS alumni as speakers for this seminar\, moderated by Associate Professor Stella Tan. Find out what it is like to work as an engineer at HTX’s CBRNE and Biometrics & Profiling Centres of Expertise\, and the large number of career openings available at HTX.  \nRegister by 22 January here.   
URL:https://www.science.nus.edu.sg/event/industrial-seminar-series-htx/
LOCATION:LT 27
CATEGORIES:Employability
ATTACH;FMTTYPE=image/png:https://www.science.nus.edu.sg/wp-content/uploads/2024/01/HTX-seminar-poster-ft-Prof-Stella_printer-friendly.png
END:VEVENT
BEGIN:VEVENT
DTSTART;TZID=Asia/Singapore:20240124T140000
DTEND;TZID=Asia/Singapore:20240124T153000
DTSTAMP:20260422T225150
CREATED:20231211T030629Z
LAST-MODIFIED:20231211T030629Z
UID:59241-1706104800-1706110200@www.science.nus.edu.sg
SUMMARY:FoS Ready for Internship(s) – Mathematical Sciences
DESCRIPTION:Interested in getting to learn more about the tips for getting your Internship from your seniors? \nUnsure of what credit-bearing Internship FoS offers? \nHaving trouble landing your next Internship? \n  \nLearn first-hand from seniors\, Science Dean’s Office\, and CFG Career Advisors on how to ace your internship preparations!
URL:https://www.science.nus.edu.sg/event/fos-ready-for-internships-mathematical-sciences-2/
LOCATION:LT 27
CATEGORIES:Employability
ATTACH;FMTTYPE=image/png:https://www.science.nus.edu.sg/wp-content/uploads/2023/12/Ready-for-Internships-January-2024.png
END:VEVENT
BEGIN:VEVENT
DTSTART;TZID=Asia/Singapore:20230830T180000
DTEND;TZID=Asia/Singapore:20230830T200000
DTSTAMP:20260422T225150
CREATED:20230811T025642Z
LAST-MODIFIED:20230811T025736Z
UID:50459-1693418400-1693425600@www.science.nus.edu.sg
SUMMARY:Get Ready for Graduation!
DESCRIPTION:Calling all soon-to-be graduates!\nWant to get a head start in your job search and learn how to standout from the competition?\nHear first-hand from your FoS Alumni on how they havesuccessfully navigated their job search journey.\nJoin this seminar to gain insights and insider tips on how toposition yourself for the evolving needs of the job market. \nHere’s what’s happening:- \nOpening Address by A/Prof. Chng Shu Sin (Vice Dean\, Student Life & Alumni Relations) \n\nKey insights from Graduate Employment Survey 2022 and factors that boost graduate employability\n\nPanel Sharing Session by FoS Alumni and CFG Career Advisors \n\nA live panel sharing addressing Frequently asked Questions by graduating years students\, including topics such as:\n\nLatest industry trends and typical hiring timelines\nJob search preparation tips and strategies\nCareer resources and support from your CFG Career Advisors\n\n\n\nQ&A Session and Close
URL:https://www.science.nus.edu.sg/event/get-ready-for-graduation/
LOCATION:LT 27
CATEGORIES:Employability
ATTACH;FMTTYPE=image/png:https://www.science.nus.edu.sg/wp-content/uploads/2023/08/Graduation-Briefing-30-Aug-2023.png
END:VEVENT
BEGIN:VEVENT
DTSTART;TZID=Asia/Singapore:20230405T121500
DTEND;TZID=Asia/Singapore:20230405T133000
DTSTAMP:20260422T225150
CREATED:20230112T011001Z
LAST-MODIFIED:20230404T003015Z
UID:45596-1680696900-1680701400@www.science.nus.edu.sg
SUMMARY:Industrial Seminar Series - Nvidia
DESCRIPTION:For the last industrial seminar of the semester\, we have invited to the science campus Nvidia\, a leading provider of high-performance computing solutions.  \n  \nUse this golden opportunity to learn:  \n– how Nvidia is helping science researchers with AI and GPUs \n– the concept of foundation models (FM)\, their applications\, and how Nvidia accelerates FM development\, with wide implications in popular applications including ChatGPT \n– Nvidia’s student ambassador program \n  \nRegister today to attend the talk at 1215pm\, 5 Apr\, @ Science LT27
URL:https://www.science.nus.edu.sg/event/industrial-seminar-series-nvidia/
LOCATION:LT 27
CATEGORIES:Employability
ATTACH;FMTTYPE=image/png:https://www.science.nus.edu.sg/wp-content/uploads/2023/01/ISS-Nvidia-5-Apr.png
END:VEVENT
BEGIN:VEVENT
DTSTART;TZID=Asia/Singapore:20230322T121500
DTEND;TZID=Asia/Singapore:20230322T133000
DTSTAMP:20260422T225150
CREATED:20230309T090029Z
LAST-MODIFIED:20230309T090029Z
UID:47838-1679487300-1679491800@www.science.nus.edu.sg
SUMMARY:Industrial Seminar Series - Citadel
DESCRIPTION:The next industrial seminar series of the semester will feature Citadel LLC\, a leading American multinational hedge fund and financial services company\, which\, as of December 2022\, has more than USD $62 billion in assets under its management. It will take place from 1215pm\, on 22 March (Wed)\, at LT27.  \n  \nAbout Citadel | Citadel Securities: \nAt Citadel Securities\, we bring together the brightest minds in trading\, mathematical finance and technology to constantly redefine and reimagine markets. Through our valuable role as a market maker\, we have helped re-define the trading experience for retail investors while meeting the liquidity needs of our clients in all market conditions. \n  \nWhat will be covered at the talk: \nOur quantitative researchers work collaboratively to apply advanced statistical techniques and engineering acumen to model markets\, test hypotheses and create trading algorithms in the world’s most competitive and dynamic markets. During this talk\, Anand Sinha\, Head\, Systematic Business\, APAC\, will discuss real-world “alpha” generation processes that exemplify the scope of Quantitative Researcher and Research Engineer roles at Citadel | Citadel Securites.
URL:https://www.science.nus.edu.sg/event/industrial-seminar-series-citadel/
LOCATION:LT 27
ATTACH;FMTTYPE=image/png:https://www.science.nus.edu.sg/wp-content/uploads/2023/03/ISS-Citadelfinal.png
END:VEVENT
BEGIN:VEVENT
DTSTART;TZID=Asia/Singapore:20230221T110000
DTEND;TZID=Asia/Singapore:20230221T160000
DTSTAMP:20260422T225150
CREATED:20230112T010901Z
LAST-MODIFIED:20230213T081233Z
UID:45594-1676977200-1676995200@www.science.nus.edu.sg
SUMMARY:Science Career & Internship Fair
DESCRIPTION:The Science Career and Internships Fair (21 Feb\, 11AM – 4PM\, @ LT27 foyer)\, complementing the Career Fest\, is the next opportunity for you to find meaningful engagements with employers offering science-specific jobs AND internships openings.  \n  \nRegister for the science fair TODAY\, if you have yet to do so (many of you have!)\, and join the science fair Telegram channel for push notifications leading up to and on the date of the science fair. 
URL:https://www.science.nus.edu.sg/event/science-career-internship-fair/
LOCATION:LT 27
CATEGORIES:Employability
ATTACH;FMTTYPE=image/png:https://www.science.nus.edu.sg/wp-content/uploads/2023/01/3rd-Wave-1.png
END:VEVENT
BEGIN:VEVENT
DTSTART;TZID=Asia/Singapore:20230208T120000
DTEND;TZID=Asia/Singapore:20230208T133000
DTSTAMP:20260422T225150
CREATED:20230112T004643Z
LAST-MODIFIED:20230131T023144Z
UID:45571-1675857600-1675863000@www.science.nus.edu.sg
SUMMARY:Industrial Seminar Series - DKSH
DESCRIPTION:The third Industrial seminar series of the semester will feature DKSH\, a Swiss holding company specializing in market expansion services. Listed on the Swiss Exchange with an annual revenue of 11.6 billion CHF (as of 2019) \, DKSH is deeply rooted in the Asia Pacific Region with a vibrant presence in Singapore to help companies who want to grow their business in Singapore. \nJoin us on 8 Feb\, 1215pm talk @ LT27\, to hear from Wilkinson Tan (GM – Technology\, DKSH Singapore)\, an NUS science alumnus\, about his journey from a science graduate into the commercial space.  \nNetworking with Bento lunch will be provided at end of seminar.  Register today using the link: https://forms.office.com/r/tcVwuSp3ZN to know the career and internships opportunities at DKSH Singapore.
URL:https://www.science.nus.edu.sg/event/industrial-seminar-series-dksh/
LOCATION:LT 27
CATEGORIES:Employability
ATTACH;FMTTYPE=image/png:https://www.science.nus.edu.sg/wp-content/uploads/2023/01/DKSH-8-feb.png
END:VEVENT
BEGIN:VEVENT
DTSTART;TZID=Asia/Singapore:20230127T120000
DTEND;TZID=Asia/Singapore:20230127T133000
DTSTAMP:20260422T225150
CREATED:20230105T003859Z
LAST-MODIFIED:20230118T070813Z
UID:45356-1674820800-1674826200@www.science.nus.edu.sg
SUMMARY:FoS Ready for Internship(s) – Life and Physical Sciences
DESCRIPTION:Interested in getting to learn more about the tips for getting your Internship from your seniors? \nUnsure of what credit-bearing Internship FoS offers? \nHaving trouble landing your next Internship? \n  \nLearn first-hand from seniors\, Science Dean’s Office\, and CFG Career Advisors on how to ace your internship preparations!
URL:https://www.science.nus.edu.sg/event/fos-ready-for-internships-life-and-physical-sciences/
LOCATION:LT 27
CATEGORIES:Employability
ATTACH;FMTTYPE=image/png:https://www.science.nus.edu.sg/wp-content/uploads/2023/01/FoS-Instagram-Post-1.png
END:VEVENT
BEGIN:VEVENT
DTSTART;TZID=Asia/Singapore:20230120T120000
DTEND;TZID=Asia/Singapore:20230120T133000
DTSTAMP:20260422T225150
CREATED:20230105T003338Z
LAST-MODIFIED:20230118T070820Z
UID:45353-1674216000-1674221400@www.science.nus.edu.sg
SUMMARY:FoS Ready for Internship(s) – Mathematical Sciences
DESCRIPTION:Interested in getting to learn more about the tips for getting your Internship from your seniors? \nUnsure of what credit-bearing Internship FoS offers? \nHaving trouble landing your next Internship? \n  \nLearn first-hand from seniors\, Science Dean’s Office\, and CFG Career Advisors on how to ace your internship preparations!
URL:https://www.science.nus.edu.sg/event/fos-ready-for-internships-mathematical-sciences/
LOCATION:LT 27
CATEGORIES:Employability
ATTACH;FMTTYPE=image/png:https://www.science.nus.edu.sg/wp-content/uploads/2023/01/FoS-Instagram-Post-1.png
END:VEVENT
BEGIN:VEVENT
DTSTART;TZID=Asia/Singapore:20230119T120000
DTEND;TZID=Asia/Singapore:20230119T133000
DTSTAMP:20260422T225150
CREATED:20221227T050546Z
LAST-MODIFIED:20230118T070845Z
UID:45263-1674129600-1674135000@www.science.nus.edu.sg
SUMMARY:Industrial Seminar Series - Maersk: Reinventing Logistics through Data
DESCRIPTION:Come join us for the 1st of the Industrial Seminar Series featuring Maersk — a Danish shipping company\, active in ocean and inland freight transportation and associated services\, such as supply chain management and port operation. Hear from them as they speak about the use of data science use in maritime industry. Sign up via the link below. Act fast as seats are limited.  \n 
URL:https://www.science.nus.edu.sg/event/industrial-seminar-series-maersk/
LOCATION:LT 27
CATEGORIES:Employability
ATTACH;FMTTYPE=image/png:https://www.science.nus.edu.sg/wp-content/uploads/2022/12/ISS-Maersk-and-Singapore-Maritime-Foundation-19-Jan.png
END:VEVENT
END:VCALENDAR